BEGIN:VCALENDAR
VERSION:2.0
PRODID:-//Oceania Customs Organisation - ECPv6.15.20//NONSGML v1.0//EN
CALSCALE:GREGORIAN
METHOD:PUBLISH
X-ORIGINAL-URL:https://www.ocosec.org
X-WR-CALDESC:Events for Oceania Customs Organisation
REFRESH-INTERVAL;VALUE=DURATION:PT1H
X-Robots-Tag:noindex
X-PUBLISHED-TTL:PT1H
BEGIN:VTIMEZONE
TZID:Pacific/Fiji
BEGIN:STANDARD
TZOFFSETFROM:+1200
TZOFFSETTO:+1200
TZNAME:+12
DTSTART:20240101T000000
END:STANDARD
END:VTIMEZONE
BEGIN:VEVENT
DTSTART;TZID=Pacific/Fiji:20251013T080000
DTEND;TZID=Pacific/Fiji:20251016T170000
DTSTAMP:20260422T013913
CREATED:20251021T213609Z
LAST-MODIFIED:20251021T213609Z
UID:230786-1760342400-1760634000@www.ocosec.org
SUMMARY:Regional Training for OCO Intelligence Contact Points on Precursor Chemicals and Drug Trafficking Trends
DESCRIPTION:
URL:https://www.ocosec.org/event/icp/
CATEGORIES:Fiji
ORGANIZER;CN="OCO Sec":MAILTO:info@ocosec.org
END:VEVENT
BEGIN:VEVENT
DTSTART;TZID=Pacific/Fiji:20251015T080000
DTEND;TZID=Pacific/Fiji:20251015T143000
DTSTAMP:20260422T013913
CREATED:20251021T213857Z
LAST-MODIFIED:20251021T213857Z
UID:230788-1760515200-1760538600@www.ocosec.org
SUMMARY:Virtual Dialogue on the development of an Authorised Economic Operator (AEO) framework - Phase II - Framework Development and Design
DESCRIPTION:This comprehensive dialogue is designed to equip members with the foundational knowledge and practical tools necessary to design\, implement and sustain a national AEO framework. This is a critical mechanism for implementing WTO Trade Facilitation Agreement (TFA) Article 7.7 which also aligns with the WCO SAFE Framework of Standards\, thereby enhancing regional trade security and facilitation
URL:https://www.ocosec.org/event/virtual-dialogue-on-the-development-of-an-authorised-economic-operator-aeo-framework-phase-ii-framework-development-and-design/
LOCATION:Online
ORGANIZER;CN="OCO Sec":MAILTO:info@ocosec.org
END:VEVENT
END:VCALENDAR