BEGIN:VCALENDAR
VERSION:2.0
PRODID:-//Oceania Customs Organisation - ECPv6.15.20//NONSGML v1.0//EN
CALSCALE:GREGORIAN
METHOD:PUBLISH
X-ORIGINAL-URL:https://www.ocosec.org
X-WR-CALDESC:Events for Oceania Customs Organisation
REFRESH-INTERVAL;VALUE=DURATION:PT1H
X-Robots-Tag:noindex
X-PUBLISHED-TTL:PT1H
BEGIN:VTIMEZONE
TZID:Pacific/Fiji
BEGIN:STANDARD
TZOFFSETFROM:+1200
TZOFFSETTO:+1200
TZNAME:+12
DTSTART:20240101T000000
END:STANDARD
END:VTIMEZONE
BEGIN:VEVENT
DTSTART;TZID=Pacific/Fiji:20251027T080000
DTEND;TZID=Pacific/Fiji:20251030T170000
DTSTAMP:20260422T013817
CREATED:20251021T214246Z
LAST-MODIFIED:20251021T214246Z
UID:230792-1761552000-1761843600@www.ocosec.org
SUMMARY:Digital Customs Workshop: Advancing Trade Facilitation and Modernization through Technology
DESCRIPTION:The workshop aims to equip participants with the practical knowledge and strategic tools necessary to drive digital modernization within their administrations. The focus will be on leveraging technology in particular the ASYCUDA World platform and the PACComtrade database to enhance trade facilitation\, improve compliance\, harness data for decision-making and ensuring sustainable implementation. This aligns with international frameworks including the WTO Trade Facilitation Agreement (TFA) and WCO standards.
URL:https://www.ocosec.org/event/digital-customs-workshop-advancing-trade-facilitation-and-modernization-through-technology/
LOCATION:Nadi\, Nadi\, Fiji
CATEGORIES:Fiji
END:VEVENT
BEGIN:VEVENT
DTSTART;TZID=Pacific/Fiji:20251030T080000
DTEND;TZID=Pacific/Fiji:20251031T170000
DTSTAMP:20260422T013817
CREATED:20251021T214630Z
LAST-MODIFIED:20251021T214630Z
UID:230796-1761811200-1761930000@www.ocosec.org
SUMMARY:Maritime Domain Awareness Talanoa Group Meeting
DESCRIPTION:The purpose of the meeting is to discuss the related approaches\, tools and practices of operational non-fisheries MDA law enforcement cooperation and coordination\, with a view to improving current operational cooperation at national and regional levels.
URL:https://www.ocosec.org/event/maritime-domain-awareness-talanoa-group-meeting/
LOCATION:Australia\, Australia
END:VEVENT
END:VCALENDAR