BEGIN:VCALENDAR
VERSION:2.0
PRODID:-//Oceania Customs Organisation - ECPv6.15.20//NONSGML v1.0//EN
CALSCALE:GREGORIAN
METHOD:PUBLISH
X-WR-CALNAME:Oceania Customs Organisation
X-ORIGINAL-URL:https://www.ocosec.org
X-WR-CALDESC:Events for Oceania Customs Organisation
REFRESH-INTERVAL;VALUE=DURATION:PT1H
X-Robots-Tag:noindex
X-PUBLISHED-TTL:PT1H
BEGIN:VTIMEZONE
TZID:Pacific/Fiji
BEGIN:STANDARD
TZOFFSETFROM:+1200
TZOFFSETTO:+1200
TZNAME:+12
DTSTART:20250101T000000
END:STANDARD
END:VTIMEZONE
BEGIN:VEVENT
DTSTART;TZID=Pacific/Fiji:20260424T080000
DTEND;TZID=Pacific/Fiji:20260425T170000
DTSTAMP:20260424T014345
CREATED:20260120T025059Z
LAST-MODIFIED:20260120T025059Z
UID:231086-1777017600-1777136400@www.ocosec.org
SUMMARY:MDA Talanoa 1st Meeting - 1/2026 (UNODC/PFC) - Auckland\, NZ
DESCRIPTION:Pacific Regional Security Secretariats meeting to discuss emerging maritime issues and coordinated approach to MDA platforms
URL:https://www.ocosec.org/event/mda-talanoa-1st-meeting-1-2026-unodc-pfc-auckland-nz/
LOCATION:New Zealand
END:VEVENT
END:VCALENDAR